BEGIN:VCALENDAR
VERSION:2.0
PRODID:-//https://stiftsmusik.de///NONSGML kigkonsult.se iCalcreator 2.10.15//
METHOD:PUBLISH
BEGIN:VEVENT
UID:20260421T105617CEST-8397fhH8oA@https://stiftsmusik.de/
DTSTAMP:20260421T085617Z
DESCRIPTION:Die Mitglieder des Stiftsmusikvereins sind eingeladen\, einen h
 eiteren Nachmittag bei Musik\, Kultur\, Kaffee &amp\; Kuchen in der Stifts
 basilika und am schönsten Ort Aschaffenburgs\, dema Stiftsgarten zu verbri
 ngen.\nNach einem kurzen Orgelkonzert mit heiterer und beschwingter Musik 
 durch Caroline Roth öffnet Stiftspfarrer Martin Heim den Gästen die Augen 
 neu für die Schönheiten der Stiftsbasilika. Im Anschluss genießen wir zusa
 mmen einen wunderbaren Nachmittag bei Kaffee und Kuchen im Stiftsgarten. h
 ttps://stiftsmusik.de/intern/vorchor-termine/event/244-abgesagt-„der-schön
 ste-ort-aschaffenburgs“-–-veranstaltung-für-mitglieder-des-stiftsmusikvere
 ins
DTSTART:20230513T123000Z
DTEND:20230513T143000Z
LOCATION:Stiftsbasilika St. Peter und Alexander (Stiftsplatz\, 63739\, Asch
 affenburg\, Bayern)
SUMMARY:ABGESAGT: „Der schönste Ort Aschaffenburgs“ – Veranstaltung für Mit
 glieder des Stiftsmusikvereins
URL:https://stiftsmusik.de/intern/vorchor-termine/event/244-abgesagt-„der-s
 chönste-ort-aschaffenburgs“-–-veranstaltung-für-mitglieder-des-stiftsmusik
 vereins
END:VEVENT
END:VCALENDAR
