BEGIN:VCALENDAR
VERSION:2.0
PRODID:-//https://stiftsmusik.de///NONSGML kigkonsult.se iCalcreator 2.10.15//
METHOD:PUBLISH
BEGIN:VEVENT
UID:20260421T163654CEST-9517cCWTva@https://stiftsmusik.de/
DTSTAMP:20260421T143654Z
DESCRIPTION:Der Vorchor und der B-Chor der Stiftschorknaben &amp\; -mädchen
  führt gemeinsam mit der Klavierklasse „Chor Plus“ von Britta Gläser im Sa
 al des Martinushauses das Musical „Ritter Rost“ von Felix Janosa &amp\; Jö
 rg Hilbert auf. Die Klavierparts des Singspiels werden von Schülerinnen un
 d Schülern der Klavierklasse übernommen\, die Leitung hat Vokalpädagogin U
 lrike Matheis inne.\n&nbsp\;\nWir danken herzlich unseren Förderern\, Unte
 rstützern und Sponsoren:Förderverein der Stiftsmusik &amp\; Martinushaus A
 schaffenburg https://stiftsmusik.de/aktuelles/termine/event/442-„ritter-ro
 st“-–-musical-aufführung
DTSTART:20260621T140000Z
DTEND:20260621T150000Z
LOCATION:Martinushaus (Treibgasse 26\, 63739 Aschaffenburg)
SUMMARY:„Ritter Rost“ – Musical-Aufführung
URL:https://stiftsmusik.de/aktuelles/termine/event/442-„ritter-rost“-–-musi
 cal-aufführung
END:VEVENT
END:VCALENDAR
