BEGIN:VCALENDAR
VERSION:2.0
PRODID:-//https://stiftsmusik.de///NONSGML kigkonsult.se iCalcreator 2.10.15//
METHOD:PUBLISH
BEGIN:VEVENT
UID:20260421T153023CEST-946738SZWu@https://stiftsmusik.de/
DTSTAMP:20260421T133023Z
DESCRIPTION:Am Sonntag\, 19. Juli 2026 feiern die Stiftschorknaben &amp\; -
 mädchen ihren Sommerabschluss. Den Auftakt bildet der Gottesdienst in der 
 Stiftsbasilika um 10:30 Uhr. Im Anschluss grillen wir intern im Garten des
  Marienstifts. https://stiftsmusik.de/aktuelles/termine/event/434-sommerfe
 st-der-stiftsmusik-–-gottesdienst-interner-grillnachmittag
DTSTART:20260719T083000Z
DTEND:20260719T094500Z
LOCATION:Stiftsbasilika St. Peter und Alexander (Stiftsplatz\, 63739\, Asch
 affenburg\, Bayern)
SUMMARY:Sommerfest der Stiftsmusik – Gottesdienst & interner Grillnachmitta
 g
URL:https://stiftsmusik.de/aktuelles/termine/event/434-sommerfest-der-stift
 smusik-–-gottesdienst-interner-grillnachmittag
END:VEVENT
END:VCALENDAR
