BEGIN:VCALENDAR
VERSION:2.0
PRODID:-//https://stiftsmusik.de///NONSGML kigkonsult.se iCalcreator 2.10.15//
METHOD:PUBLISH
BEGIN:VEVENT
UID:20260420T050516CEST-96393EO9gj@https://stiftsmusik.de/
DTSTAMP:20260420T030516Z
DESCRIPTION: https://stiftsmusik.de/aktuelles/event/239-pfingstsonntag-hoch
 amt
DTSTART:20230528T083000Z
DTEND:20230528T094500Z
LOCATION:Stiftsbasilika St. Peter und Alexander (Stiftsplatz\, 63739\, Asch
 affenburg\, Bayern)
SUMMARY:Pfingstsonntag - Hochamt
URL:https://stiftsmusik.de/aktuelles/event/239-pfingstsonntag-hochamt
END:VEVENT
END:VCALENDAR
